BEGIN:VCALENDAR
VERSION:2.0
PRODID:-//ETicaNews - ECPv4.6.18//NONSGML v1.0//EN
CALSCALE:GREGORIAN
METHOD:PUBLISH
X-WR-CALNAME:ETicaNews
X-ORIGINAL-URL:https://www.eticanews.it
X-WR-CALDESC:Events for ETicaNews
BEGIN:VEVENT
DTSTART;TZID=Europe/Rome:20180522T080000
DTEND;TZID=Europe/Rome:20180607T170000
DTSTAMP:20180623T083858
CREATED:20180516T141756Z
LAST-MODIFIED:20180523T140313Z
UID:63347-1526976000-1528390800@www.eticanews.it
SUMMARY:Festival dello Sviluppo Sostenibile 2018
DESCRIPTION:Si svolge tra il 22 maggio e il 7 giugno con centinaia di manifestazioni in tutta Italia la seconda edizione del Festival dello sviluppo sostenibile lanciato da Asvis. Si tratta di un’iniziativa di sensibilizzazione ed elaborazione culturale che si distribuirà su 17 giorni\, tanti quanti gli Obiettivi di sviluppo sostenibile sostenuti dall’Agenda 2030 delle Nazioni Unite. Per l’occasione sono stati organizzati convegni\, seminari\, workshop\, mostre\, spettacoli\, presentazioni di libri e manifestazioni di valorizzazione del territorio. \n
URL:https://www.eticanews.it/event/festival-dello-sviluppo-sostenibile-2018/
END:VEVENT
BEGIN:VEVENT
DTSTART;TZID=Europe/Rome:20180528T093000
DTEND;TZID=Europe/Rome:20180529T183000
DTSTAMP:20180623T083858
CREATED:20180523T125520Z
LAST-MODIFIED:20180523T125906Z
UID:63530-1527499800-1527618600@www.eticanews.it
SUMMARY:Make Integrated Thinking Happen
DESCRIPTION:A Roma\, alla Luiss Guido Carlo (viale Romania 32 )\, si svolge il ciclo di conferenze “Make Integrated Thinking Happen – Align Corporate Purpose with Sustainable Performance“. Si discuterà di come istituzioni pubbliche e private possono allineare i propri obiettivi con quelli di sostenibilità. Parteciperanno ad alcuni appuntamenti anche il direttore di ETicaNews\, Luca Testoni (“Investors perspectives”\, 29 maggio\, 10.20-11)\, ed Elena Bonanni di ETicaNews (“Regulators perspectives”\, 29 maggio\, 11.20-12). \n
URL:https://www.eticanews.it/event/make-integrated-thinking-happen/
END:VEVENT
BEGIN:VEVENT
DTSTART;TZID=Europe/Rome:20180528T110000
DTEND;TZID=Europe/Rome:20180528T133000
DTSTAMP:20180623T083858
CREATED:20180523T133911Z
LAST-MODIFIED:20180523T134127Z
UID:63545-1527505200-1527514200@www.eticanews.it
SUMMARY:Imprese e territorio - l'economia circolare nella provincia di Frosinone
DESCRIPTION:A Frosinone\, nel Salone delle conferenze della Provincia\, si svolge il convegno “Imprese e territorio – l’economia circolare nella provincia di Frosinone“. I lavori del convegno\, che si inserisce all’interno degli eventi del Festival dello sviluppo sostenibile 2018\, avranno come obiettivo quello di evidenziare l’importanza delle imprese nella provincia di Frosinone e\, in particolare\, comprendere come utilizzare i principi dell’economia circolare nelle attività economiche. Inoltre\, si cercherà di individuare il ruolo dell’Università rispetto al contribuito e alla crescita delle realtà imprenditoriali del basso Lazio. La proposta arriva da: dipartimento di Economia e giurisprudenza e dipartimento di Ingegneria civile e meccanica dell’Università di Cassino e del Lazio Meridionale; Ordine dei dottori commercialisti e dei Revisori contabili di Frosinone; Primavera Studentesca. \n
URL:https://www.eticanews.it/event/imprese-e-territorio-leconomia-circolare-nella-provincia-di-frosinone/
END:VEVENT
BEGIN:VEVENT
DTSTART;TZID=Europe/Rome:20180529T110000
DTEND;TZID=Europe/Rome:20180529T130000
DTSTAMP:20180623T083858
CREATED:20180523T135345Z
LAST-MODIFIED:20180523T135523Z
UID:63549-1527591600-1527598800@www.eticanews.it
SUMMARY:Nasce Sefea Impact
DESCRIPTION:A Roma\, nella sede di Fondazione con il Sud di via del Corso 267\, viene presentata Sefea Impact\, una nuova società di gestione risparmio che gestisce fondi chiusi riservati con una strategia esclusivamente di impatto sociale. La Sgr lancerà nell’occasione il suo primo fondo “Sì – Social Impact”. \n
URL:https://www.eticanews.it/event/nasce-sefea-impact/
END:VEVENT
BEGIN:VEVENT
DTSTART;TZID=Europe/Rome:20180531T100000
DTEND;TZID=Europe/Rome:20180531T133000
DTSTAMP:20180623T083858
CREATED:20180523T132655Z
LAST-MODIFIED:20180523T132825Z
UID:63538-1527760800-1527773400@www.eticanews.it
SUMMARY:Fairtrade annual report meeting
DESCRIPTION:A Milano\, al Palazzo dei Giureconsulti\, Fairtrade organizza la presentazione del report annuale. All’incontro\, intitolato “Il futuro dI Fairtrade? Partnership di sostenibilità con le imprese”\, sarà presente anche il ceo di Fairtrade International\, Dario Soto Abril. L’evento si svolge dalle 10 alle 13.30. \n
URL:https://www.eticanews.it/event/fairtrade-annual-report-meeting/
END:VEVENT
BEGIN:VEVENT
DTSTART;TZID=Europe/Rome:20180604T150000
DTEND;TZID=Europe/Rome:20180604T173000
DTSTAMP:20180623T083858
CREATED:20180530T165956Z
LAST-MODIFIED:20180530T165956Z
UID:63800-1528124400-1528133400@www.eticanews.it
SUMMARY:Agenda 2030: la leadership dell'impresa per lo sviluppo sostenibile
DESCRIPTION:A Milano\, nella sede di Assolombarda\, si svolge l’incontro “Agenda 2030: la leadership dell’impresa per lo sviluppo sostenibile“. L’appuntamento è in via Pantano 9 dalle 15 alle 17.30. L’evento è organizzato dalla Fondazione Sodalitas\, che propone un pomeriggio di riflessione e confronto sul contributo delle imprese per attuare l’Agenda 2030 dell’Onu. \n
URL:https://www.eticanews.it/event/agenda-2030-la-leadership-dellimpresa-per-lo-sviluppo-sostenibile/
LOCATION:Via Chiaravalle 8\, Milano
END:VEVENT
BEGIN:VEVENT
DTSTART;TZID=Europe/Rome:20180605T090000
DTEND;TZID=Europe/Rome:20180606T183000
DTSTAMP:20180623T083858
CREATED:20180530T162707Z
LAST-MODIFIED:20180530T162707Z
UID:63789-1528189200-1528309800@www.eticanews.it
SUMMARY:European Development Days
DESCRIPTION:A Bruxelles\, al Tour & Taxis di Avenue du Port 86\, si tengono gli European Development Days. Si tratta di due giornate che organizza tutti gli anni la Commissione Europea dal 2006 per parlare di Sviluppo. Al centro dell’edizione di quest’anno ci sarà il tema “Women and girls at the forefront of sustainable development: protect\, empower\, invest”. \n
URL:https://www.eticanews.it/event/european-development-days/
END:VEVENT
BEGIN:VEVENT
DTSTART;TZID=Europe/Rome:20180606T093000
DTEND;TZID=Europe/Rome:20180606T133000
DTSTAMP:20180623T083858
CREATED:20180530T163724Z
LAST-MODIFIED:20180530T163724Z
UID:63792-1528277400-1528291800@www.eticanews.it
SUMMARY:Sviluppo sostenibile e anticorruzione: buone pratiche dal territorio
DESCRIPTION:A Palermo\, nell’aula Magna della facoltà di Giurisprudenza (via dell’Università 107)\, si tiene l’incontro “Sviluppo sostenibile e anticorruzione: buone pratiche dal territorio“. L’evento è organizzato dal Gruppo di lavoro dell’AsviS sul Goal 16\, in collaborazione con PriorItalia e Centro Studi Pio La Torre. I lavori si tengono dalle 9.30 alle 13.30. \n
URL:https://www.eticanews.it/event/sviluppo-sostenibile-e-anticorruzione-buone-pratiche-dal-territorio/
LOCATION:Via dell'Università 107\, palermo
END:VEVENT
BEGIN:VEVENT
DTSTART;TZID=Europe/Rome:20180606T150000
DTEND;TZID=Europe/Rome:20180606T180000
DTSTAMP:20180623T083858
CREATED:20180530T170620Z
LAST-MODIFIED:20180530T170620Z
UID:63802-1528297200-1528308000@www.eticanews.it
SUMMARY:Energia pulita e accessibile e Goal 13: Lotta contro il cambiamento climatico
DESCRIPTION:A Roma\, al Maxxi di via Guido Reni 4/a\, si tiene l’incontro “Energia pulita e accessibile e Goal 13: Lotta contro il cambiamento climatico”. L’evento è inserito tra le proposte del Festival dello Sviluppo sostenibile 2018. Ad organizzare l’incontro è Enel. Si parlerà di come realizzare una crescita sostenibile rispettando i Target previsti negli Obiettivi 7 (Energia pulita e accessibile) e 13 (Lotta contro il cambiamento climatico) dell’Agenda 2030 delle Nazioni Unite. \n
URL:https://www.eticanews.it/event/energia-pulita-e-accessibile-e-goal-13-lotta-contro-il-cambiamento-climatico/
LOCATION:via Guido Reni 4/a\, roma
END:VEVENT
BEGIN:VEVENT
DTSTART;TZID=Europe/Rome:20180607T090000
DTEND;TZID=Europe/Rome:20180607T130000
DTSTAMP:20180623T083858
CREATED:20180530T165233Z
LAST-MODIFIED:20180530T165233Z
UID:63796-1528362000-1528376400@www.eticanews.it
SUMMARY:Cooperare per generare sostenibilità economica\, sociale\, culturale
DESCRIPTION:A Pavia\, nella Sala Conferenze del Polo Tecnologico (Via F.lli Curzio\, 42)\, all’interno degli eventi organizzati in occasione del Festival dello sviluppo sostenibile 2018\, si svolge l’evento “Impresa cooperativa\, impresa sostenibile – Cooperare per generare sostenibilità economica\, sociale\, culturale“. L’incontro è organizzato nell’ambito dell’assemblea annuale di Confcooperative Pavia\, dove si alterneranno esperienze e testimonianze utili a capire la sostenibità dell’impresa cooperativa\, anche su importanti dimensioni aziendali\, oltre al legame con la propria comunità. \n
URL:https://www.eticanews.it/event/cooperare-per-generare-sostenibilita-economica-sociale-culturale/
LOCATION:Via F.lli Curzio\, 42\, pavia
END:VEVENT
BEGIN:VEVENT
DTSTART;TZID=Europe/Rome:20180608T090000
DTEND;TZID=Europe/Rome:20180608T163000
DTSTAMP:20180623T083858
CREATED:20180605T110216Z
LAST-MODIFIED:20180605T114021Z
UID:63987-1528448400-1528475400@www.eticanews.it
SUMMARY:Una giusta transizione alle nuove fonti di energia
DESCRIPTION:A Roma\, nella sala del Parlamentino del Cnel\, si tiene il convegno “Una giusta transizione alle nuove fonti di energia: tecnologie\, costi\, geopolitica“. I lavori saranno aperti dal presidente di Nomisma\, Davide Tabarelli\, e saranno articolati in due tavole rotonde. La prima\, “Tecnologia: quali capacità e costi?”\, si svolgerà dalle 10.30 alle 13; la seconda\, “Geopolitica della transizione verso nuove energie”\, si svolgerà dalle ore 14\,00 alle ore 16\,30. I lavori saranno conclusi dal presidente della Fondazione Nenni\, Giorgio Benvenuto. L’evento è organizzato da Feps (Foundation for European Progressive Studies) e Fondazione Pietro Nenni. \n
URL:https://www.eticanews.it/event/una-giusta-transizione-alle-nuove-fonti-di-energia/
LOCATION: Viale David Lubin\, 2\, Roma
END:VEVENT
BEGIN:VEVENT
DTSTART;TZID=Europe/Rome:20180609T090000
DTEND;TZID=Europe/Rome:20180609T133000
DTSTAMP:20180623T083858
CREATED:20180605T110941Z
LAST-MODIFIED:20180605T111021Z
UID:63991-1528534800-1528551000@www.eticanews.it
SUMMARY:Lo scriverò nel vento
DESCRIPTION:Ad Otranto\, nella sala Triangolare del Castello Aragonese\, si svolge il convegno “Lo scriverò nel Vento“. L’evento\, che comincia alle 9\, vuole affrontare il tema della sostenibilità con un particolare focus su specifici Obiettivi di sviluppo sostenibile dell’Agenda 2030 dell’Onu: i numeri 2\, 3\, 12\, 14\, 15 e 16. Tra i promotori ci sono anche Asvis e l’associazione di volontariato Sos per la vita. \n
URL:https://www.eticanews.it/event/lo-scrivero-nel-vento/
END:VEVENT
BEGIN:VEVENT
DTSTART;TZID=Europe/Rome:20180611T163000
DTEND;TZID=Europe/Rome:20180611T180000
DTSTAMP:20180623T083858
CREATED:20180605T111644Z
LAST-MODIFIED:20180605T114441Z
UID:63994-1528734600-1528740000@www.eticanews.it
SUMMARY:Terzo settore e imprenditorialità sociale
DESCRIPTION:In videoconferenza si tiene l’incontro “Terzo settore e imprenditorialità sociale“. L’incontro\, in programma dalle 16.30 alle 18\, vuole essere l’occasione per confrontarsi sulle nuove sfide per il Terzo settore e l’imprenditorialità sociale. I relatori saranno collegati in diretta audio/video con le sale attivate sul territorio nazionale. Si affronteranno temi quali “gli scenari e le principali trasformazioni che si dovranno affrontare”\, “gli impatti della digitalizzazione sull’offerta dei servizi” e “come impostare una strategia comunicativa utilizzando i social media”. \n
URL:https://www.eticanews.it/event/terzo-settore-e-imprenditorialita-sociale/
END:VEVENT
BEGIN:VEVENT
DTSTART;TZID=Europe/Rome:20180613T091500
DTEND;TZID=Europe/Rome:20180613T133000
DTSTAMP:20180623T083858
CREATED:20180605T113505Z
LAST-MODIFIED:20180605T113528Z
UID:63999-1528881300-1528896600@www.eticanews.it
SUMMARY:Il rilancio del fotovoltaico italiano
DESCRIPTION:A Roma\, all’Auditorium Gse di viale Maresciallo Pilsudski 92\, si tiene l’incontro “Il rilancio del fotovoltaico italiano – Scenari e strategie per ammodernare e sviluppare il parco fotovoltaico“. L’invito arriva da Atlhesys Strategic Consultants. L’evento si svolge dalle 9.15 alle 13.30. \n
URL:https://www.eticanews.it/event/il-rilancio-del-fotovoltaico-italiano/
END:VEVENT
BEGIN:VEVENT
DTSTART;TZID=Europe/Rome:20180615T093000
DTEND;TZID=Europe/Rome:20180615T133000
DTSTAMP:20180623T083858
CREATED:20180605T112756Z
LAST-MODIFIED:20180605T114837Z
UID:63996-1529055000-1529069400@www.eticanews.it
SUMMARY:PUBBLICA! Comunicazione\, trasparenza e partecipazione nella PA
DESCRIPTION:A Milano\, al Luiss Hub\, si tiene l’incontro “Pubblica! Comunicazione\, trasparenza e partecipazione nella PA“. Lo promuovono Refe\, Redesign\, Fondazione Brodolini e Fondazione Accademia per la Comunicazione. L’evento è dedicato ad amministratori e operatori degli enti locali e della pubblica amministrazione\, delle aziende partecipate e del mondo della ricerca e dell’informazione. L’obiettivo è conoscere e approfondire riflessioni ed esperienze sui temi della comunicazione\, della trasparenza\, della rendicontazione pubblica e della partecipazione. Anche alla luce degli esiti della nuova ricerca di Eumetra sul benessere degli italiani\, che sarà presentata durante l’evento. \n
URL:https://www.eticanews.it/event/pubblica-comunicazione-trasparenza-e-partecipazione-nella-pa/
LOCATION:Via Massimo d’Azeglio 3\, milano
END:VEVENT
BEGIN:VEVENT
DTSTART;TZID=Europe/Rome:20180618T080000
DTEND;TZID=Europe/Rome:20180622T170000
DTSTAMP:20180623T083858
CREATED:20180613T134138Z
LAST-MODIFIED:20180613T134453Z
UID:64298-1529308800-1529686800@www.eticanews.it
SUMMARY:Business and Human Rights
DESCRIPTION:A Pisa\, presso la Scuola Superiore Sant’Anna\, si svolge la Summer School “Business and Human Rights“. Il corso è co-organizzato da HRIC\, dall’Istituto DIRPOLIS della Scuola Sant’Anna di Pisa\, dal dipartimento di Giurisprudenza dell’Università Statale di Milano e CNR-IRISS di Napoli. Il corso\, in inglese\, è indirizzato a studenti\, avvocati\, ricercatori\, rappresentanti della società civile\, delle istituzioni e delle imprese ed esperti del settore della responsabilità sociale di impresa. \n
URL:https://www.eticanews.it/event/business-and-human-rights/
LOCATION:Piazza Martiri della Libertà\, 33\, Pisa
END:VEVENT
BEGIN:VEVENT
DTSTART;TZID=Europe/Rome:20180618T183000
DTEND;TZID=Europe/Rome:20180618T200000
DTSTAMP:20180623T083858
CREATED:20180613T142345Z
LAST-MODIFIED:20180613T142345Z
UID:64316-1529346600-1529352000@www.eticanews.it
SUMMARY:Pensare sostenibile
DESCRIPTION:A Roma\, a Palazzo Guglielmi\, si tiene la presentazione del libro “Pensare sostenibile – Una bella impresa“\, di Barbara Santoro. Ne discuteranno con l’autrice: Sabrina Florio (presidente di Anima per il sociale nei valori d’impresa); Valentina Garonzi\, ceo di Diamante; Enrico Giovannini (portavoce Asvis); Enrico Loccioni (presidente Loccioni); Roberto Poli (Università di Trento). L’incontro comincia alle 18.30. \n
URL:https://www.eticanews.it/event/pensare-sostenibile/
LOCATION:Piazza dei Ss. Apostoli 73\, Roma
END:VEVENT
BEGIN:VEVENT
DTSTART;TZID=Europe/Rome:20180619T093000
DTEND;TZID=Europe/Rome:20180619T130000
DTSTAMP:20180623T083858
CREATED:20180613T135812Z
LAST-MODIFIED:20180613T135812Z
UID:64306-1529400600-1529413200@www.eticanews.it
SUMMARY:Il peso delle diseguaglianze
DESCRIPTION:A Roma\, nella sede della Cgil\, si svolge l’incontro “Il peso delle deseguaglianze“. Sono previsti gli interventi di Fulvio Fammoni (fondazione Di Vittorio); Carlo Buttaroni (Tecnè); Pier Giorgio Ardeni (istituto Cattaneo); Massimiliano Tarantino (fondazione Feltrinelli); Enrico Giovannini (Asvis); Susanna Camusso (Cgil). \n
URL:https://www.eticanews.it/event/il-peso-delle-diseguaglianze/
LOCATION:Corso d’Italia 25\, Roma
END:VEVENT
BEGIN:VEVENT
DTSTART;TZID=Europe/Rome:20180619T173000
DTEND;TZID=Europe/Rome:20180619T190000
DTSTAMP:20180623T083858
CREATED:20180613T135152Z
LAST-MODIFIED:20180613T135152Z
UID:64303-1529429400-1529434800@www.eticanews.it
SUMMARY:L'analisi di impatto e gli altri strumenti per la qualità della regolazione
DESCRIPTION:A Roma\, nell’aula Magna della Scuola nazionale dell’amministrazione di via dei Robilant 1\, si svolge la presentazione del volume “L’analisi di impatto e gli altri strumenti per la qualità della regolazione” a cura di Eleonora Cavalieri ed Edoardo Chiti. L’incontro comincia alle 17.30 ed è prevista la presenza\, oltre che dei curatori\, di Ida Angela Nicotra\, Cesare Pinelli\, Romilda Rizzo e Laura Tafani. \n
URL:https://www.eticanews.it/event/lanalisi-di-impatto-e-gli-altri-strumenti-per-la-qualita-della-regolazione/
END:VEVENT
BEGIN:VEVENT
DTSTART;TZID=Europe/Rome:20180622T103000
DTEND;TZID=Europe/Rome:20180622T133000
DTSTAMP:20180623T083858
CREATED:20180620T123151Z
LAST-MODIFIED:20180620T123408Z
UID:64506-1529663400-1529674200@www.eticanews.it
SUMMARY:L'impegno sociale delle aziende in Italia
DESCRIPTION:A Roma\, al ministero delle Sviluppo economico\, viene presentato l’VIII rapporto nazionale “L’impegno sociale delle aziende in Italia“. Il primo ad intervenire sarà Roberto Orsi\, direttore dell’Osservatorio Socialis (che organizza l’incontro) e presidente di Errepi comunicazione. Seguiranno i commenti sui dati di Nicoletta Luppi (Msd)\, Marcella Mallen (fondazione Prioritalia)\, Giuseppe Sgaramella (Acea)\, Luca Torchia (Terna)\, Bruno Zene (Ferrovie dello Stato Italiane). Seguirà l’ultima fase dell’incontro con “Associazioni\, Enti\, Istituzioni\, Università: come darsi un obiettivo comune”. \n
URL:https://www.eticanews.it/event/limpegno-sociale-delle-aziende-in-italia/
LOCATION:via molise 2\, Roma
END:VEVENT
BEGIN:VEVENT
DTSTART;TZID=Europe/Rome:20180622T150000
DTEND;TZID=Europe/Rome:20180622T190000
DTSTAMP:20180623T083858
CREATED:20180613T140927Z
LAST-MODIFIED:20180613T140957Z
UID:64311-1529679600-1529694000@www.eticanews.it
SUMMARY:Salviamo il paesaggio
DESCRIPTION:A Palermo\, nell’aula Capitò della Scuola Politecnica di viale delle Scienze\, si svolge un incontro sulle “Norme per l’arresto del consumo di suolo e per il riuso dei suoli urbanizzati”. Ad organizzare l’evento sono il forum Salviamo il Paesaggio e le associazioni ambientaliste siciliane. Alla tavola rotonda parteciperanno Mimma Argurio (Cgil Sicilia)\, Marcel Pidalà (istituto nazionale Urbanistica Sicilia)\, Leandro Janni (Italia Nostra Sicilia)\, Mimmo Fontana (Legambiente Sicilia)\, Nino Provenza (Lipu Sicilia)\, Renato Carella (Ramarro Sicilia)\, Rosario Gugliotta (Slow Food Sicilia)\, Pietro Ciulla (Wwf Sicilia). \n
URL:https://www.eticanews.it/event/salviamo-il-paesaggio/
END:VEVENT
BEGIN:VEVENT
DTSTART;TZID=Europe/Rome:20180625T080000
DTEND;TZID=Europe/Rome:20180627T170000
DTSTAMP:20180623T083858
CREATED:20180620T124343Z
LAST-MODIFIED:20180620T124343Z
UID:64511-1529913600-1530118800@www.eticanews.it
SUMMARY:Yearning for inclusive growth and development\, good jobs and sustainability
DESCRIPTION:A Roma si svolge l’incontro “Yearning for inclusive growth and development\, good jobs and sustainability“. L’evento si svolgerà in tre località diverse\, una per ognuno dei tre giorni previsti dal programma:  Villa Mondragone – Monte Porzio Catone; Facoltà di Economia di via Columbia 2; ministero degli Affari esteri e della Cooperazione internazionale (piazzale della Farnesina 1). Si tratta di una conferenza internazionale che sarà incentrata sui temi della “Sostenibilità\, dello Sviluppo e dell’Inclusione sociale”. L’evento è organizzato dalla fondazione Economia Tor Vergata. \n
URL:https://www.eticanews.it/event/yearning-for-inclusive-growth-and-development-good-jobs-and-sustainability/
END:VEVENT
BEGIN:VEVENT
DTSTART;TZID=Europe/Rome:20180625T173000
DTEND;TZID=Europe/Rome:20180625T190000
DTSTAMP:20180623T083858
CREATED:20180620T125015Z
LAST-MODIFIED:20180620T125015Z
UID:64515-1529947800-1529953200@www.eticanews.it
SUMMARY:Lo sviluppo sostenibile nell'Africa sub-sahariana
DESCRIPTION:A Milano\, alla fondazione Eni Enrico Mattei\, si tiene l’incontro “Lo sviluppo sostenibile nell’Africa sub-sahariana: il ruolo dei poteri intermedi dello stato nella crescita economica“. Interverrà Funké Michaels\, della Harvard University e Nairobi University. Introdurrà l’incontro Giulio Sapelli\, della fondazione Eni Enrico Mattei. L’incontro si svolge dalle 17.30 alle 19. \n
URL:https://www.eticanews.it/event/lo-sviluppo-sostenibile-nellafrica-sub-sahariana/
LOCATION:corso magenta 63\, milano
END:VEVENT
BEGIN:VEVENT
DTSTART;TZID=Europe/Rome:20180626T090000
DTEND;TZID=Europe/Rome:20180626T130000
DTSTAMP:20180623T083858
CREATED:20180620T125936Z
LAST-MODIFIED:20180620T125936Z
UID:64519-1530003600-1530018000@www.eticanews.it
SUMMARY:L'idroelettrico crea valore per l'Italia
DESCRIPTION:A Roma\, all’Auditorium Gse\, si svolge l’incontro “L’idroelettrico crea valore per l’Italia – Scenari e proposte per valorizzare il patrimonio idroelettrico italiano“. L’evento è organizzato da Althesys. Prevista la presenza di vari attori del settori che si confronteranno sulle strategie nazionali dell’idroelettrico e sul ruolo delle imprese. \n
URL:https://www.eticanews.it/event/lidroelettrico-crea-valore-per-litalia/
LOCATION:viale Maresciallo Pilsudski 92\, roma
END:VEVENT
BEGIN:VEVENT
DTSTART;TZID=Europe/Rome:20180627T150000
DTEND;TZID=Europe/Rome:20180627T170000
DTSTAMP:20180623T083858
CREATED:20180620T130409Z
LAST-MODIFIED:20180620T130409Z
UID:64523-1530111600-1530118800@www.eticanews.it
SUMMARY:Artigianato\, microimprese e Sviluppo Sostenibile
DESCRIPTION:A Roma\, alla Casa delle Imprese CNA di viale Guglielmo Massaia 31\, si tiene il seminario “Artigianato\, microimprese e Sviluppo Sostenibile“. L’incontro è organizzato dalla Confederazione nazionale dell’artigianato e della piccola e media impresa (Cna) ed ASviS. Il seminario mira ad attivare un’azione capillare che aiuti le Pmi a prendere coscienza delle misure che dovrebbero adottare per raggiungere gli obiettivi definiti nella Strategia Nazionale per lo Sviluppo Sostenibile. \n
URL:https://www.eticanews.it/event/artigianato-microimprese-e-sviluppo-sostenibile/
END:VEVENT
END:VCALENDAR